BEGIN:VCALENDAR
VERSION:2.0
PRODID:-//WP Event Manager//EN
CALSCALE:GREGORIAN
BEGIN:VEVENT
UID:69eb7dacf29cc@arenesdedax.com
DTSTAMP:20260424T142652Z
DTSTART;TZID=Europe/Paris:20260119T091445
DTEND;TZID=Europe/Paris:20260529T091445
SUMMARY:Abonnements aux corridas ouverts !
DESCRIPTION:La vente des abonnements pour la Temporada 2026 est ouverte jusqu&#039;au 29 mai.\n\nNe tardez pas pour pouvoir bénéficier du paiement en plusieurs fois !\n\nPlusieurs formules d’abonnements sont proposées !\n\n⭐ L’abonnement feria comprend :\n\nCorrida 12 août à 17h\n\nCorridas 13, 14, 15 et 16 août à 18h\n\nNovillada sans picador (concours) 13 août à 11h\n\nNovillada piquée 15 août à 11h\n\nVisite des toros d’août\n\n⚡ L’abonnement temporada comprend :\n\nCorrida du 12 août à 17h\n\nCorridas du 13, 14, 15 et 16 août à 18h\n\nCorridas du 12 et 13 septembre à 17h30\n\nNovillada sans picador (concours) du 13 août à 11h\n\nNovillada sans picador (finale) du 14 août à 11h\n\nNovillada piquée du 15 août à 11h\n\nVisites des toros d’août et de septembre\n\nParticipation au jeu « gagner un callejon » sur tirage au sort.\n\nDécouvrez les élevages de la temporada 2026\n\n👉 Comment renouvelez ou activer votre abonnement ?\n\nAbonnés : vous avez reçu un code par courrier, si vous ne l’avez pas demandez-le par mail à regiefetes@dax.fr. Pour les non abonnés, choisissez votre formule et votre place seulon les disponibiités affichées.\n\nSi vous avez besoin d’aide, vous pouvez contacter la billetterie au 05 58 909 909 ou vous rendre directement au guichet.\n\nComment réglez votre abonnement ?Plusieurs possibilités s’offrent à vous pour régler votre abonnement :\n\nEn plusieurs fois sans frais. Jusqu’à 6 fois (date limite d’achat le 3 février 2026). Le premier versement se fait à la réservation, puis par paiements mensuels jusqu’à juillet 2026.\n\nAu comptant à la réservation\n\nLes règlements par chèque doivent être envoyés à : Billetterie des arènes, Hôtel de Ville, rue Saint-Pierre, CS 9007 Dax\n\nℹ️ Sachez que vous avez aussi la possibilité de réserver dès maintenant des places pour la corrida à cheval qui aura lieu le 16 août à 11h.\n\nDates clés à retenir :\n\nOuverture des ventes des abonnements : 15 janvier 2026\n\nFeria de Dax : Du 12 au 16 août 2026\n\nToros y Salsa : Du 11 au 13 septembre 2026\n\nContact billetterie : 05 58 909 909\n\nBilletterie
LOCATION:Arènes de Dax\, 2 Bd Paul Lasaosa\, 40100 Dax
URL:https://arenesdedax.com/evenement/abonnement-aux-corridas-dax
END:VEVENT
END:VCALENDAR