BEGIN:VCALENDAR
VERSION:2.0
PRODID:-//WP Event Manager//EN
CALSCALE:GREGORIAN
BEGIN:VEVENT
UID:69e8e022211c5@arenesdedax.com
DTSTAMP:20260422T145010Z
DTSTART;TZID=Europe/Paris:20260515T190000
SUMMARY:Soirée de présentation de la Temporada 2026
DESCRIPTION:Présentation de la Temporada le 15 mai, réservez votre place !Aficionados, passionnés et curieux, le moment est venu ! La Ville de Dax vous invite à découvrir le programme de la saison taurine 2026 lors d&#039;une soirée exceptionnelle qui se tiendra le vendredi 15 mai à 19h à l&#039;Atrium de Dax.Au programme : présentation des cartels, des affiches de la Temporada et du Concours Landais et moment convivial.\n\nLa participation à la soirée est gratuite, mais l&#039;inscription est obligatoire dans la limite des places disponibles. Vous pourrez réserver 2 places maximum ( à partir du mercredi 22 avril 9h).\n\nUne fois votre inscription validée, vous recevrez un billet. Il devra être présenté (sur téléphone ou imprimé) pour accéder à la présentation à l&#039;Atrium ainsi qu&#039;au cocktail qui suivra.\n\nIl n&#039;y a plus de place disponible.\n\nJe m&#039;inscris
LOCATION:PW6V+5Q Dax
URL:https://arenesdedax.com/evenement/soiree-de-presentation-de-la-temporada-2026
END:VEVENT
END:VCALENDAR